BEGIN:VCALENDAR
VERSION:2.0
PRODID:-//Ondernemersclub Nederland - ECPv6.15.11//NONSGML v1.0//EN
CALSCALE:GREGORIAN
METHOD:PUBLISH
X-WR-CALNAME:Ondernemersclub Nederland
X-ORIGINAL-URL:https://ocnederland.nl
X-WR-CALDESC:Evenementen voor Ondernemersclub Nederland
REFRESH-INTERVAL;VALUE=DURATION:PT1H
X-Robots-Tag:noindex
X-PUBLISHED-TTL:PT1H
BEGIN:VTIMEZONE
TZID:Europe/Paris
BEGIN:DAYLIGHT
TZOFFSETFROM:+0100
TZOFFSETTO:+0200
TZNAME:CEST
DTSTART:20250330T010000
END:DAYLIGHT
BEGIN:STANDARD
TZOFFSETFROM:+0200
TZOFFSETTO:+0100
TZNAME:CET
DTSTART:20251026T010000
END:STANDARD
BEGIN:DAYLIGHT
TZOFFSETFROM:+0100
TZOFFSETTO:+0200
TZNAME:CEST
DTSTART:20260329T010000
END:DAYLIGHT
BEGIN:STANDARD
TZOFFSETFROM:+0200
TZOFFSETTO:+0100
TZNAME:CET
DTSTART:20261025T010000
END:STANDARD
BEGIN:DAYLIGHT
TZOFFSETFROM:+0100
TZOFFSETTO:+0200
TZNAME:CEST
DTSTART:20270328T010000
END:DAYLIGHT
BEGIN:STANDARD
TZOFFSETFROM:+0200
TZOFFSETTO:+0100
TZNAME:CET
DTSTART:20271031T010000
END:STANDARD
END:VTIMEZONE
BEGIN:VEVENT
DTSTART;TZID=Europe/Paris:20260302T090000
DTEND;TZID=Europe/Paris:20260302T130000
DTSTAMP:20260422T131728
CREATED:20260216T011046Z
LAST-MODIFIED:20260216T011108Z
UID:10000042-1772442000-1772456400@ocnederland.nl
SUMMARY:2 Maart 2026 🇬🇧
DESCRIPTION:Evenement in Zeeland
URL:https://ocnederland.nl/event/2-maart-2026/
LOCATION:Zeeland\, Zeeland\, Netherlands
CATEGORIES:🇬🇧
END:VEVENT
BEGIN:VEVENT
DTSTART;TZID=Europe/Paris:20260304T090000
DTEND;TZID=Europe/Paris:20260304T130000
DTSTAMP:20260422T131728
CREATED:20260216T011408Z
LAST-MODIFIED:20260216T011427Z
UID:10000043-1772614800-1772629200@ocnederland.nl
SUMMARY:4 Maart 2026 🇷🇺
DESCRIPTION:Evenement in Zeeland
URL:https://ocnederland.nl/event/4-maart-2026/
LOCATION:Zeeland\, Zeeland\, Netherlands
CATEGORIES:🇷🇺
END:VEVENT
BEGIN:VEVENT
DTSTART;TZID=Europe/Paris:20260305T090000
DTEND;TZID=Europe/Paris:20260305T130000
DTSTAMP:20260422T131728
CREATED:20260216T011721Z
LAST-MODIFIED:20260216T011742Z
UID:10000044-1772701200-1772715600@ocnederland.nl
SUMMARY:5 Maart 2026 🇬🇧
DESCRIPTION:Evenement in Flevoland
URL:https://ocnederland.nl/event/5-maart-2026/
LOCATION:Flevoland\, Flevoland\, Netherlands
CATEGORIES:🇬🇧
END:VEVENT
BEGIN:VEVENT
DTSTART;TZID=Europe/Paris:20260306T100000
DTEND;TZID=Europe/Paris:20260306T120000
DTSTAMP:20260422T131728
CREATED:20260216T012104Z
LAST-MODIFIED:20260301T190335Z
UID:10000045-1772791200-1772798400@ocnederland.nl
SUMMARY:6 Maart 2026 🇷🇺
DESCRIPTION:OCN Studiedag voor Ondernemers.\n📅 6 maart.🕙 10:00 – 12:00.💻 Online. \nSpreker: Marina Burbidge-Godes.\nInvesteer in uw belangrijkste kapitaal – uw gezondheid.\nVoor ondernemers beginnen energie\, focus en zelfvertrouwen met innerlijke balans.Het hoge tempo van het ondernemerschap\, constante besluitvorming en verantwoordelijkheid vragen om een sterk en stabiel fundament. \nDe conditie van het haar is niet alleen een kwestie van esthetiek. Het is een biologische marker die stressniveaus\, tekorten en de algemene vitaliteit van het lichaam weerspiegelt. \nTijdens deze OCN Studiedag voor Ondernemers ontrafelen wij samen de “gezondheidscode” vanuit het perspectief van de trichologie en leert u signalen van uw lichaam beter herkennen. \nThema van de sessie : Haar als marker van gezondheid.Alles over groei\, kwaliteit en oorzaken van haaruitval.\nProgramma:\n\nDiagnose via de spiegel.Wat veranderingen in haarstructuur kunnen betekenen.Welke signalen kunnen wijzen op verborgen tekorten.Wanneer professionele diagnostiek raadzaam is.\nOndernemersritme en stress.Hoe chronische belasting de haargroeicyclus beïnvloedt.Het mechanisme achter stressgerelateerde haaruitval.Praktische preventieve strategieën bij een intensieve agenda.\nKwaliteit van binnenuit.Essentiële nutriënten voor dichtheid en glans.De rol van voeding\, slaap en herstel.Waarom een systemische aanpak effectiever is dan losse oplossingen.\nMythen en realiteit.Wat daadwerkelijk werkt in verzorging en behandeling.Veelvoorkomende misverstanden en marketingillusies.Wanneer het verstandig is een specialist te raadplegen.\nQ&A en praktische aanbevelingen.\n\nWaarom is dit belangrijk?\nUw uitstraling maakt deel uit van uw persoonlijke merk.Gezond haar weerspiegelt veerkracht\, energie en interne balans.Sterk ondernemerschap begint bij een sterk fysiek fundament. \nExclusief voordeel voor OCN-leden.\nVoor leden van Ondernemersclub Nederland (OCN) is deelname volledig kosteloos.Dit exclusieve aanbod maakt deel uit van de toegevoegde waarde van het lidmaatschap: hoogwaardige kennis\, waardevolle connecties en toegang tot experts. \nNog geen lid? Ontdek de voordelen van het OCN-netwerk en sluit u aan bij een gemeenschap van ambitieuze ondernemers. \nKlaar om uw kennis en energie te versterken?\nReserveer uw plek vandaag.
URL:https://ocnederland.nl/event/6-maart-2026/
LOCATION:Online\, Netherlands
CATEGORIES:🇷🇺
ATTACH;FMTTYPE=image/jpeg:https://ocnederland.nl/wp-content/uploads/2026/02/06-maart-2026.jpg
END:VEVENT
BEGIN:VEVENT
DTSTART;TZID=Europe/Paris:20260306T120000
DTEND;TZID=Europe/Paris:20260306T150000
DTSTAMP:20260422T131728
CREATED:20260329T142401Z
LAST-MODIFIED:20260329T142504Z
UID:10000093-1772798400-1772809200@ocnederland.nl
SUMMARY:6 Maart 2026 🇳🇱
DESCRIPTION:BUSINESS LUNCH BIJ HET WEESHUYS.\nExclusief voor leden van Ondernemersclub Nederland. \nOp 6 maart komen we samen op een bijzondere locatie in Noord-Brabant: Restaurant Het Weeshuys in Geertruidenberg. \nEen plek waar verfijnde gastronomie en zakelijk netwerken op een natuurlijke manier samenkomen.\nDeze bijeenkomst staat volledig in het teken van culinaire beleving\, verbinding en genieten op niveau. \nLocatie: Het Weeshuys\, Markt 52-56\, Geertruidenberg.\nDatum: vrijdag 6 maart.\nTijd: 12:00 – 15:00 uur. \nWAT KUN JE VERWACHTEN?\n▪︎ Culinair genieten: een zorgvuldig samengestelde lunch met verse\, seizoensgebonden ingrediënten.\n▪︎ Gastronomische ervaring: verfijnde gerechten in een sfeervolle en historische setting. \n▪︎ Waardevolle ontmoetingen: ontspannen netwerken met ondernemers aan tafel. \nDeze bijeenkomst is besloten en uitsluitend toegankelijk voor geregistreerde leden van de club.
URL:https://ocnederland.nl/event/6-maart-2026-2/
LOCATION:Restaurant ’t Weeshuys\, Markt 52-56\, Geertruidenberg\, Noord-Brabant\, 4931 BT
CATEGORIES:Alleen voor leden,🇳🇱
ATTACH;FMTTYPE=image/jpeg:https://ocnederland.nl/wp-content/uploads/2026/03/6-maart-2026.jpg
END:VEVENT
END:VCALENDAR