BEGIN:VCALENDAR
VERSION:2.0
PRODID:-//Ondernemersclub Nederland - ECPv6.15.11//NONSGML v1.0//EN
CALSCALE:GREGORIAN
METHOD:PUBLISH
X-WR-CALNAME:Ondernemersclub Nederland
X-ORIGINAL-URL:https://ocnederland.nl
X-WR-CALDESC:Evenementen voor Ondernemersclub Nederland
REFRESH-INTERVAL;VALUE=DURATION:PT1H
X-Robots-Tag:noindex
X-PUBLISHED-TTL:PT1H
BEGIN:VTIMEZONE
TZID:Europe/Paris
BEGIN:DAYLIGHT
TZOFFSETFROM:+0100
TZOFFSETTO:+0200
TZNAME:CEST
DTSTART:20250330T010000
END:DAYLIGHT
BEGIN:STANDARD
TZOFFSETFROM:+0200
TZOFFSETTO:+0100
TZNAME:CET
DTSTART:20251026T010000
END:STANDARD
BEGIN:DAYLIGHT
TZOFFSETFROM:+0100
TZOFFSETTO:+0200
TZNAME:CEST
DTSTART:20260329T010000
END:DAYLIGHT
BEGIN:STANDARD
TZOFFSETFROM:+0200
TZOFFSETTO:+0100
TZNAME:CET
DTSTART:20261025T010000
END:STANDARD
BEGIN:DAYLIGHT
TZOFFSETFROM:+0100
TZOFFSETTO:+0200
TZNAME:CEST
DTSTART:20270328T010000
END:DAYLIGHT
BEGIN:STANDARD
TZOFFSETFROM:+0200
TZOFFSETTO:+0100
TZNAME:CET
DTSTART:20271031T010000
END:STANDARD
END:VTIMEZONE
BEGIN:VEVENT
DTSTART;TZID=Europe/Paris:20260225T110000
DTEND;TZID=Europe/Paris:20260225T150000
DTSTAMP:20260422T125601
CREATED:20260216T005327Z
LAST-MODIFIED:20260216T005353Z
UID:10000041-1772017200-1772031600@ocnederland.nl
SUMMARY:25 Februari 2026  🇺🇦
DESCRIPTION:Evenement in Overijssel
URL:https://ocnederland.nl/event/25-februari-2026/
LOCATION:Overijssel\, Netherlands
CATEGORIES:🇺🇦
END:VEVENT
BEGIN:VEVENT
DTSTART;TZID=Europe/Paris:20260226T110000
DTEND;TZID=Europe/Paris:20260226T153000
DTSTAMP:20260422T125601
CREATED:20260214T040710Z
LAST-MODIFIED:20260214T123900Z
UID:10000035-1772103600-1772119800@ocnederland.nl
SUMMARY:26 Februari 2026 🇷🇺
DESCRIPTION:🌸 Beauty Dag met Ondernemersclub Nederland (OCN) bij BeaYOUty Studio\nWil je de geheimen van de juiste gezichtsverzorging ontdekken\, een echte glow zien en professionele behandelingen uitproberen? Wij nodigen je uit voor de Beauty Dag in de gezellige BeaYOUty Studio!. \nBedrijfsbezoek.\n📅 Datum: 26 februari\n🕚 Tijd: 11:00 – 15:30\n📍 Adres: La Palma 1\, Zaandam \nProgramma van de dag:\n11:30 – 12:00 Kennismaking.\n12:00 – 12:30 Presentatie: “De juiste gezichtsverzorging.”\n12:30 – 13:00 Workshop: gezichtsmassage voor thuis.\n13:00 – 15:30 De mogelijkheid om een van de professionele behandelingen van 20 minuten te boeken: \n\nSculpting gezichtsmassage.\nLichte gezichtsreiniging + peeling voor een stralende huid.\nLaserontharing (gezicht of oksels).\nAnti-cellulitis massage met het Endospheres apparaat.\nExpress behandeling met het Hydro-Facial apparaat (hydrateren en liften).\n\n⚠️ Beperkt aantal plaatsen beschikbaar! \nToegang: voor leden van Ondernemersclub Nederland (OCN) gratis.
URL:https://ocnederland.nl/event/26-februari-2026/
LOCATION:BeaYOUty studio\, La Palma 1\, Zaandam\, 1505 VR\, Netherlands
CATEGORIES:🇷🇺
ATTACH;FMTTYPE=image/jpeg:https://ocnederland.nl/wp-content/uploads/2026/02/26-Februari-2026-Final.jpg
END:VEVENT
BEGIN:VEVENT
DTSTART;TZID=Europe/Paris:20260226T120000
DTEND;TZID=Europe/Paris:20260226T150000
DTSTAMP:20260422T125601
CREATED:20260329T141456Z
LAST-MODIFIED:20260329T144153Z
UID:10000092-1772107200-1772118000@ocnederland.nl
SUMMARY:26 Februari 2026 🇳🇱
DESCRIPTION:🍽 BUSINESSLUNCH BIJ HET WEESHUYS\nExclusief voor leden van Ondernemersclub Nederland\nOp 26 februari komen we samen op een van de meest sfeervolle locaties van Noord-Brabant: \nRestaurant Het Weeshuys in Geertruidenberg.\nDit is dé plek waar gastronomie en zakelijk netwerken samenkomen. \nGeen snelle hap\, maar een middag vol inspiratie\, waardevolle connecties en culinaire hoogstandjes in een historisch pand. \nLocatie: Het Weeshuys⁠\, Markt 52-56\, Geertruidenberg.\nDatum: donderdag 26 februari. \nTijd: 12:00 – 15:00 uur. \nWAT KUN JE VERWACHTEN?\nNetwerken op hoog niveau: leg waardevolle contacten met mede-ondernemers uit heel Nederland.\nCulinaire beleving: geniet van een hoogwaardige lunch\, bereid met verse seizoensproducten.\nInspirerende ambiance: een informele\, maar professionele setting om plannen voor 2026 te bespreken. \nDeze bijeenkomst is besloten en uitsluitend toegankelijk voor leden van de club. \nWe kijken ernaar uit om samen met jou aan tafel te gaan!
URL:https://ocnederland.nl/event/26-februari-2026-2/
LOCATION:Restaurant ’t Weeshuys\, Markt 52-56\, Geertruidenberg\, Noord-Brabant\, 4931 BT
CATEGORIES:Alleen voor leden,🇳🇱
ATTACH;FMTTYPE=image/jpeg:https://ocnederland.nl/wp-content/uploads/2026/03/26-februari-2026.jpg
END:VEVENT
BEGIN:VEVENT
DTSTART;TZID=Europe/Paris:20260227T100000
DTEND;TZID=Europe/Paris:20260227T123000
DTSTAMP:20260422T125601
CREATED:20260212T134453Z
LAST-MODIFIED:20260224T093844Z
UID:10000034-1772186400-1772195400@ocnederland.nl
SUMMARY:27 Februari 2026 🇷🇺
DESCRIPTION:LinkedIn voor Business en Persoonlijk Merk27 februari.Online van 10.00 tot 12.30 uur. \nLinkedIn is niet zomaar een sociaal netwerk. Het is een platform voor visionairs en leiders die zich willen profileren en hun bedrijf willen opschalen. Tegenwoordig is een LinkedIn-profiel uw moderne zakelijke visitekaartje en een kanaal naar nieuwe kansen. \nTijdens de online masterclass ontvangt u praktische en bewezen tools om uw merk krachtig en zelfverzekerd neer te zetten: \n✨ Hoe u uw uniciteit weerspiegelt met behulp van profieltools. \n✨ Hoe u strategisch een netwerk opbouwt. \n✨ Hoe u content creëert en promoot die de aandacht trekt. \n✨ Hoe u uw ideale klanten bereikt. \n✨ Hoe u processen automatiseert en tijd bespaart. \nLinkedIn is uw podium. De enige vraag is: bent u klaar om naar voren te stappen en uzelf zo te presenteren dat men u onmogelijk kan negeren? \nBio van de spreker:Irina Musuc – loopbaan- en businesscoach\, corporate trainer. 17 jaar ervaring in public relations en communicatie. \nMeer dan 4000 uur coachingervaring. Presentator en expert in public speaking. Irina is auteur en trainer van programma’s op het gebied van presentatievaardigheden\, loopbaangroei\, leiderschap en persoonlijke ontwikkeling. Zij begeleidt transformatieprocessen en helpt mensen hun potentieel\, authenticiteit en ware waarde te ontdekken. \n\n\n\n\nExclusief voordeel:Voor leden van Ondernemersclub Nederland (OCN)  is deelname gratis.
URL:https://ocnederland.nl/event/27-februari-2026/
LOCATION:Online\, Netherlands
CATEGORIES:🇷🇺
ATTACH;FMTTYPE=image/jpeg:https://ocnederland.nl/wp-content/uploads/2026/02/27-februari-2026-final.jpg
END:VEVENT
END:VCALENDAR