BEGIN:VCALENDAR
VERSION:2.0
PRODID:-//Ondernemersclub Nederland - ECPv6.15.11//NONSGML v1.0//EN
CALSCALE:GREGORIAN
METHOD:PUBLISH
X-WR-CALNAME:Ondernemersclub Nederland
X-ORIGINAL-URL:https://ocnederland.nl
X-WR-CALDESC:Evenementen voor Ondernemersclub Nederland
REFRESH-INTERVAL;VALUE=DURATION:PT1H
X-Robots-Tag:noindex
X-PUBLISHED-TTL:PT1H
BEGIN:VTIMEZONE
TZID:Europe/Paris
BEGIN:DAYLIGHT
TZOFFSETFROM:+0100
TZOFFSETTO:+0200
TZNAME:CEST
DTSTART:20250330T010000
END:DAYLIGHT
BEGIN:STANDARD
TZOFFSETFROM:+0200
TZOFFSETTO:+0100
TZNAME:CET
DTSTART:20251026T010000
END:STANDARD
BEGIN:DAYLIGHT
TZOFFSETFROM:+0100
TZOFFSETTO:+0200
TZNAME:CEST
DTSTART:20260329T010000
END:DAYLIGHT
BEGIN:STANDARD
TZOFFSETFROM:+0200
TZOFFSETTO:+0100
TZNAME:CET
DTSTART:20261025T010000
END:STANDARD
BEGIN:DAYLIGHT
TZOFFSETFROM:+0100
TZOFFSETTO:+0200
TZNAME:CEST
DTSTART:20270328T010000
END:DAYLIGHT
BEGIN:STANDARD
TZOFFSETFROM:+0200
TZOFFSETTO:+0100
TZNAME:CET
DTSTART:20271031T010000
END:STANDARD
END:VTIMEZONE
BEGIN:VEVENT
DTSTART;TZID=Europe/Paris:20260126T090000
DTEND;TZID=Europe/Paris:20260126T130000
DTSTAMP:20260422T160953
CREATED:20251202T212404Z
LAST-MODIFIED:20251202T212404Z
UID:10000023-1769418000-1769432400@ocnederland.nl
SUMMARY:26 Januari 2026 🇷🇺
DESCRIPTION:Evenement in Friesland
URL:https://ocnederland.nl/event/26-januari-2026-ru/
LOCATION:Friesland\, Friesland\, Netherlands
CATEGORIES:🇷🇺
END:VEVENT
BEGIN:VEVENT
DTSTART;TZID=Europe/Paris:20260127T190000
DTEND;TZID=Europe/Paris:20260127T220000
DTSTAMP:20260422T160953
CREATED:20251119T170147Z
LAST-MODIFIED:20251202T215230Z
UID:10000011-1769540400-1769551200@ocnederland.nl
SUMMARY:27 januari 2026 🇳🇱
DESCRIPTION:Evenement in Overijssel.
URL:https://ocnederland.nl/event/27-januari-2026/
LOCATION:Overijssel\, Netherlands
CATEGORIES:🇳🇱
ATTACH;FMTTYPE=image/png:https://ocnederland.nl/wp-content/uploads/2025/06/Ondernemersclub-logo-Doorzichtig.png
END:VEVENT
BEGIN:VEVENT
DTSTART;TZID=Europe/Paris:20260129T170000
DTEND;TZID=Europe/Paris:20260129T210000
DTSTAMP:20260422T160953
CREATED:20251119T171150Z
LAST-MODIFIED:20251202T215155Z
UID:10000012-1769706000-1769720400@ocnederland.nl
SUMMARY:29 januari 2026 🇳🇱
DESCRIPTION:Evenement in Noord-Brabant
URL:https://ocnederland.nl/event/29-januari-2026/
LOCATION:Noord-Brabant\, Netherlands
CATEGORIES:🇳🇱
ATTACH;FMTTYPE=image/png:https://ocnederland.nl/wp-content/uploads/2025/06/Ondernemersclub-logo-Doorzichtig.png
END:VEVENT
BEGIN:VEVENT
DTSTART;TZID=Europe/Paris:20260130T130000
DTEND;TZID=Europe/Paris:20260130T143000
DTSTAMP:20260422T160953
CREATED:20251202T213847Z
LAST-MODIFIED:20260130T113219Z
UID:10000025-1769778000-1769783400@ocnederland.nl
SUMMARY:30 Januari 2026 🇷🇺
DESCRIPTION:Evenement in Zuid-Holland. \nDEEP RESETHerstart je zenuwstelsel voor helderheid\, energie en veerkracht. \nHet moderne ritme van het ondernemerschap vereist constante inzet en hoge verantwoordelijkheid. Na verloop van tijd leidt dit tot stressophoping\, energiedalingen en innerlijke instabiliteit. \nDEEP RESET is een online evenement dat speciaal is ontworpen om je zenuwstelsel zacht en diepgaand te herstellen\, zodat je helderheid van denken\, innerlijke balans en veerkracht terugkrijgt. \nTijdens deze sessie kunnen deelnemers: \n\nStress en spanning verminderen;\nHet zenuwstelsel herstarten;\nEnergie en concentratie herstellen;\nMeer rust\, helderheid en innerlijke stabiliteit ervaren.\n\nHet evenement wordt geleid door Marina Melisanidi\, oprichter van Sirius Art Studio en het project with Marina\, specialist in het werken met het zenuwstelsel\, innerlijke staat en herstel van levensenergie. \n🗓 30 januari🕐 13:00 – 14:30💻 Online \n🔒 Het evenement is exclusief en alleen toegankelijk voor leden van Ondernemersclub Nederland (OCN).
URL:https://ocnederland.nl/event/30-januari-2026-ru/
LOCATION:Zuid-Holland\, Zuid-Holland\, Netherlands
CATEGORIES:Alleen voor leden,🇷🇺
ATTACH;FMTTYPE=image/jpeg:https://ocnederland.nl/wp-content/uploads/2025/12/115458-1.jpg
END:VEVENT
BEGIN:VEVENT
DTSTART;TZID=Europe/Paris:20260131T120000
DTEND;TZID=Europe/Paris:20260131T170000
DTSTAMP:20260422T160953
CREATED:20251119T172848Z
LAST-MODIFIED:20251202T215109Z
UID:10000013-1769860800-1769878800@ocnederland.nl
SUMMARY:31 januari 2026 🇳🇱
DESCRIPTION:Evenement in Noord-Holland
URL:https://ocnederland.nl/event/31-januari-2026/
LOCATION:Noord-Holland\, Netherlands
CATEGORIES:🇳🇱
ATTACH;FMTTYPE=image/png:https://ocnederland.nl/wp-content/uploads/2025/06/Ondernemersclub-logo-Doorzichtig.png
END:VEVENT
END:VCALENDAR