BEGIN:VCALENDAR
VERSION:2.0
PRODID:-//Ondernemersclub Nederland - ECPv6.15.11//NONSGML v1.0//EN
CALSCALE:GREGORIAN
METHOD:PUBLISH
X-WR-CALNAME:Ondernemersclub Nederland
X-ORIGINAL-URL:https://ocnederland.nl
X-WR-CALDESC:Evenementen voor Ondernemersclub Nederland
REFRESH-INTERVAL;VALUE=DURATION:PT1H
X-Robots-Tag:noindex
X-PUBLISHED-TTL:PT1H
BEGIN:VTIMEZONE
TZID:Europe/Paris
BEGIN:DAYLIGHT
TZOFFSETFROM:+0100
TZOFFSETTO:+0200
TZNAME:CEST
DTSTART:20250330T010000
END:DAYLIGHT
BEGIN:STANDARD
TZOFFSETFROM:+0200
TZOFFSETTO:+0100
TZNAME:CET
DTSTART:20251026T010000
END:STANDARD
BEGIN:DAYLIGHT
TZOFFSETFROM:+0100
TZOFFSETTO:+0200
TZNAME:CEST
DTSTART:20260329T010000
END:DAYLIGHT
BEGIN:STANDARD
TZOFFSETFROM:+0200
TZOFFSETTO:+0100
TZNAME:CET
DTSTART:20261025T010000
END:STANDARD
BEGIN:DAYLIGHT
TZOFFSETFROM:+0100
TZOFFSETTO:+0200
TZNAME:CEST
DTSTART:20270328T010000
END:DAYLIGHT
BEGIN:STANDARD
TZOFFSETFROM:+0200
TZOFFSETTO:+0100
TZNAME:CET
DTSTART:20271031T010000
END:STANDARD
END:VTIMEZONE
BEGIN:VEVENT
DTSTART;TZID=Europe/Paris:20260119T120000
DTEND;TZID=Europe/Paris:20260119T170000
DTSTAMP:20260422T161601
CREATED:20251202T210514Z
LAST-MODIFIED:20260119T214721Z
UID:10000020-1768824000-1768842000@ocnederland.nl
SUMMARY:19 Januari 2026  🇬🇧
DESCRIPTION:Internationale Business Meetup in Den Haag.Georganiseerd door Ondernemersclub Nederland. \nEen inspirerende bijeenkomst voor Engelstalige ondernemers in Zuid-Holland\, gericht op netwerken\, kennisdeling en zakelijke groei in Nederland en Europa. \nLocatie: Den Haag.Tijd: 12:00–17:00 \n12:00–12:30 – Ontvangst & Registratie.Registratie van deelnemers\, welkomstkoffie en informele kennismaking. \n12:30–12:45 – Opening.Welkomstwoord van Ondernemersclub Nederland.Introductie van de doelstellingen van de bijeenkomst en het dagprogramma. \n12:45–13:30 – Keynote: Ondernemen in Nederland.Inzicht in het ondernemingsklimaat in Zuid-Holland.Belastingen\, regelgeving en beschikbare ondersteuning voor internationale ondernemers en startups. \n13:30–14:15 – Netwerklunch.Lichte lunch in een informele setting.Ruimte voor gesprekken\, het leggen van nieuwe contacten en het uitwisselen van ervaringen. \n14:15–15:15 – Paneldiscussie: Groei en Opschaling in Europa.Praktijkervaringen van ondernemers die actief zijn op de Europese markt.Interactieve vragenronde met het publiek. \n15:15–15:30 – Koffiepauze \n15:30–16:30 – Interactieve Sessie / WorkshopsWerken in kleine groepen rond thema’s zoals startups\, investeringen\, marketing en technologie.Praktische cases en peer-to-peer kennisdeling. \n16:30–16:50 – Pitchronde & IntroductiesKorte presentaties van deelnemers (1–2 minuten per persoon).Focus op samenwerking\, partnerships en zakelijke kansen. \n16:50–17:00 – AfsluitingSamenvatting van de dag en belangrijkste inzichten.
URL:https://ocnederland.nl/event/19-januari-2026-en/
LOCATION:Zuid-Holland\, Zuid-Holland\, Netherlands
CATEGORIES:🇬🇧
ATTACH;FMTTYPE=image/jpeg:https://ocnederland.nl/wp-content/uploads/2025/12/19-01-2026.jpg
END:VEVENT
BEGIN:VEVENT
DTSTART;TZID=Europe/Paris:20260120T090000
DTEND;TZID=Europe/Paris:20260120T130000
DTSTAMP:20260422T161601
CREATED:20251202T211246Z
LAST-MODIFIED:20260121T105129Z
UID:10000021-1768899600-1768914000@ocnederland.nl
SUMMARY:20 Januari 2026 🇺🇦
DESCRIPTION:Businessbijeenkomst voor Oekraïenstalige оndernemers in Flevoland.\nDatum: 20 januari 2026.Tijd: 09:00–13:00.Stad: Almere\, Flevoland.Exact adres: Randstad 22\, 1316 BM Almere.Evenement wordt georganiseerd door: Ondernemersclub Nederland. \nEen zakelijke bijeenkomst voor Oekraïenstalige ondernemers die actief zijn of een bedrijf willen starten in Nederland. De focus ligt op netwerken\, praktische kennis en het opbouwen van duurzame zakelijke relaties. \nProgramma.\n09:00–09:30 — Ontvangst & Registratie. \n\nRegistratie van deelnemers.\nOchtendkoffie.\nInformele kennismaking.\n\n09:30–09:45 – Officiële Opening. \n\nWelkomstwoord door Ondernemersclub Nederland.\nIntroductie van de doelstellingen van het evenement.\nOverzicht van het dagprogramma.\n\n09:45–10:30 – Ondernemen in Nederland: Praktische Informatie. \n\nBedrijfsvormen (ZZP\, BV en andere).\nRegistratie en administratieve verplichtingen.\nBelastingen en basisverantwoordelijkheden.\nBeschikbare ondersteuning voor ondernemers.\n\n10:30–11:15 – Netwerksessie. \n\nGestructureerde kennismaking.\nKorte introducties van deelnemers en hun bedrijven.\nUitwisseling van contactgegevens.\n\n11:15–11:30 — Koffiepauze. \n11:30–12:15 — Paneldiscussie: Ervaringen van Oekraïense Ondernemers in Nederland. \n\nPraktijkervaringen en succesverhalen.\nUitdagingen en kansen.\nVragen en antwoorden.\n\n12:15–12:50 — Pitchsessie. \n\nKorte pitches van deelnemers (1–2 minuten).\nPresentatie van diensten\, producten en ideeën.\nMogelijkheden voor samenwerking en partnerschappen.\n\n12:50–13:00 — Afsluiting. \n\nSamenvatting van de belangrijkste inzichten.\nAankondiging van toekomstige evenementen van Ondernemersclub Nederland.\nSlotwoord van de organisatie.\n\nOndernemersclub Nederland verbindt ondernemers\, stimuleert samenwerking en ondersteunt internationale zakelijke groei in Nederland.
URL:https://ocnederland.nl/event/20-januari-2026-ua/
LOCATION:Flevoland\, Flevoland\, Netherlands
CATEGORIES:🇺🇦
ATTACH;FMTTYPE=image/jpeg:https://ocnederland.nl/wp-content/uploads/2025/12/20-01-2026.jpg
END:VEVENT
BEGIN:VEVENT
DTSTART;TZID=Europe/Paris:20260121T180000
DTEND;TZID=Europe/Paris:20260121T220000
DTSTAMP:20260422T161601
CREATED:20251202T211825Z
LAST-MODIFIED:20260329T175851Z
UID:10000022-1769018400-1769032800@ocnederland.nl
SUMMARY:21 Januari 2026 🇬🇧
DESCRIPTION:HET PLATINUM DINER BIJ DE VLINDERTUIN. \nExclusief voor Platinum-leden van Ondernemersclub Nederland.\nOp 21 januari nodigen wij onze Platinum leden uit om te genieten van het toppunt van de Nederlandse gastronomie. \nWe komen samen bij het iconische Restaurant De Vlindertuin in Zuidlaren\, een locatie waar historische charme en modern culinair meesterschap samenkomen.\nDit is meer dan een diner. Het is een zorgvuldig samengestelde avond voor de architecten van de toekomst om te verbinden\, te inspireren en te genieten in een setting die elegantie definieert. \nOm een naadloze ervaring te garanderen voor ons internationale netwerk van leiders\, zal de voertaal tijdens dit evenement Engels zijn. \nEVENT DETAILS.\nLocatie. De Vlindertuin⁠. Stationsweg 20\, Zuidlaren.\nDatum. Woensdag 21 januari 2026.\nTijd. 18:00 – 22:00 uur. \nDE PLATINUM ERVARING.\nOmring uzelf met de meest invloedrijke ondernemers en leiders uit verschillende landen in een intieme\, besloten setting. \n▪︎ Gastronomie van Michelin-niveau.\nGeniet van een menu van wereldklasse\, bereid door het bekroonde culinaire team.\nHet menu bevat seizoensgebonden producten en verfijnde wijnarrangementen. \n▪︎ De ambiance van De Vlindertuin.\nGeniet van de warmte van de historische Saksische boerderij – de perfecte achtergrond om grootse visies voor 2026 te bespreken. \nSTRIKT BEPERKT.\nOm een intieme sfeer van het hoogste niveau te waarborgen\, is het aantal plaatsen zeer beperkt. Deze bijeenkomst is besloten en uitsluitend toegankelijk voor geregistreerde Platinum-leden. \nAANMELDEN.\nBevestig uw deelname uitsluitend via het platform van Ondernemersclub Nederland. \nWe kijken uit naar een avond vol uitzonderlijke smaken en connecties van wereldklasse.
URL:https://ocnederland.nl/event/21-januari-2026-en/
LOCATION:Restaurant de Vlindertuin\, Stationsweg 41\, Zuidlaren\, Drenthe\, 9471 GK\, Netherlands
CATEGORIES:Alleen voor leden,🇬🇧
ATTACH;FMTTYPE=image/jpeg:https://ocnederland.nl/wp-content/uploads/2025/12/21-januari-2026-2.jpg
END:VEVENT
BEGIN:VEVENT
DTSTART;TZID=Europe/Paris:20260122T110000
DTEND;TZID=Europe/Paris:20260122T160000
DTSTAMP:20260422T161601
CREATED:20251119T155846Z
LAST-MODIFIED:20260120T141727Z
UID:10000007-1769079600-1769097600@ocnederland.nl
SUMMARY:22 Januari 2026 🇷🇺
DESCRIPTION:Stijlvol Ontbijt\n\nProgramma van het evenement: \n11:00–11:30  Ontvangst van de gasten\, kennismaking en netwerken \n11:30–12:15  Presentatie door Diana Bodnarenco -creatief fashionfotograaf en eigenaresse van Aidonea Photography. \nThema: Creëer een zichtbaar merk: fotografie\, stijl\, mode en energie die voor jou werken. \n\n het visuele imago van de ondernemer.\n hoe je via fotografie de waarde van je merk communiceert.\n stijl als instrument voor groei en herkenbaarheid.\n\n12:15–13:00  Lunch. \n13:00–13:45  Presentatie door Marina Siverskaya – oprichtster van de modellenschool “Cape Evans”. \nThema: Modellen van een nieuwe generatie: diversiteit\, individualiteit en stijl. \n\neen nieuwe esthetiek in mode en business.\nzelfvertrouwen\, zelfpresentatie en personal branding.\nhoe je je individualiteit kunt ontwikkelen en omzetten in kracht.\n\n14:00–16:00  Vrij netwerken\, uitwisseling van contacten en afsluiting \nBonus voor deelnemers: Tijdens het evenement zijn er cadeaus en aangename verrassingen van deelnemers en partners. \nVoor wie: \n\nondernemers die in Nederland wonen.\niedereen die een bedrijf wil starten in Nederland.\nondernemers uit andere landen die geïnteresseerd zijn in netwerken en kennisuitwisseling.\n\nDeelnameprijs: €50. \nVoor clubleden – gratis. \nLunch wordt afzonderlijk door iedere deelnemer betaald. \n 
URL:https://ocnederland.nl/event/22-januari-2026/
LOCATION:CKE – Cultuur & Kunst Eindhoven\, Pastoor Petersstraat 180\, Eindhoven\, 5612 LW\, Netherlands
CATEGORIES:🇷🇺
ATTACH;FMTTYPE=image/png:https://ocnederland.nl/wp-content/uploads/2025/11/afisha-scaled.png
END:VEVENT
BEGIN:VEVENT
DTSTART;TZID=Europe/Paris:20260122T170000
DTEND;TZID=Europe/Paris:20260122T210000
DTSTAMP:20260422T161601
CREATED:20251119T165152Z
LAST-MODIFIED:20260110T105150Z
UID:10000010-1769101200-1769115600@ocnederland.nl
SUMMARY:22 januari 2026 🇳🇱
DESCRIPTION:Grip op je cijfers. Grip op je bedrijf.\n22 januari.\nKokspad 2\, 6883 KA Velp.\n17.00 – 21.00.\nPresentator: Maarten Wienbelt van Brilliant Work.\nOntdek hoe een maandbegroting jouw bedrijf kan veranderen.\nVeel ondernemers sturen vooral op gevoel. Begrijpelijk. Maar gevaarlijk.\nTijdens deze inspirerende bijeenkomst laat Ondernemersclub Nederland zien hoe eenvoudig en waardevol het is om elke maand te werken met een duidelijke begroting en maandafsluiting.\nMet praktische voorbeelden. Directe toepasbaarheid. En een rekenmodule die je mee naar huis krijgt. Leer in één avond hoe je meer grip krijgt op je resultaten en cashflow.\nWat kun je verwachten:\n\n Inloop en netwerken. 17.00 – 17.30.\n\nOntmoet andere ondernemers uit Gelderland in een ontspannen sfeer. \n\n Praktische presentatie. 17.30 – 18.30.\n\nMaarten Wienbelt laat zien waarom maandbegrotingen het fundament zijn van gezond ondernemen. En hoe jij ze eenvoudig toepast. \n\n Hands on workshop. 18.30 – 19.30.\n\nAan de slag met de officiële rekenmodule. Hoe gebruik je deze. Waar begin je. Welke valkuilen vermijd je. \n\nNetwerk. 19:30 – 21:00.\n\nVerbind. Doe nieuwe zakelijke kansen. \n\nEten en drinken.\n\nTijdens het evenement is het eten en drinken vanzelfsprekend goed geregeld. \nVoor wie is deze bijeenkomst:\n Leden van Ondernemersclub Nederland.\n Ondernemers in Gelderland die meer grip willen op hun cijfers.\n Startende ondernemers of mensen met plannen die eerst willen leren hoe je een goede begroting maakt.\nKosten en aanmelding:\nNieuwjaarsactie. €29.95 per persoon.\nGratis toegang voor OCN leden.\nKom. Leer. Verbind. En vertrek met meer grip op je onderneming.\nWe kijken ernaar uit je te ontvangen op 22 januari in Velp.
URL:https://ocnederland.nl/event/22-januari-2026-2/
LOCATION:Gelderland\, Netherlands
CATEGORIES:🇳🇱
ATTACH;FMTTYPE=image/jpeg:https://ocnederland.nl/wp-content/uploads/2025/11/22-januari-2026-Gelderland.jpg
END:VEVENT
BEGIN:VEVENT
DTSTART;TZID=Europe/Paris:20260124T120000
DTEND;TZID=Europe/Paris:20260124T170000
DTSTAMP:20260422T161601
CREATED:20251119T164741Z
LAST-MODIFIED:20251202T215307Z
UID:10000009-1769256000-1769274000@ocnederland.nl
SUMMARY:24 januari 2026 🇺🇦
DESCRIPTION:Evenement in Gelderland
URL:https://ocnederland.nl/event/24-januari-2026/
LOCATION:Gelderland\, Netherlands
CATEGORIES:🇺🇦
ATTACH;FMTTYPE=image/png:https://ocnederland.nl/wp-content/uploads/2025/06/Ondernemersclub-logo-Doorzichtig.png
END:VEVENT
END:VCALENDAR