BEGIN:VCALENDAR
VERSION:2.0
PRODID:-//Ondernemersclub Nederland - ECPv6.15.11//NONSGML v1.0//EN
CALSCALE:GREGORIAN
METHOD:PUBLISH
X-WR-CALNAME:Ondernemersclub Nederland
X-ORIGINAL-URL:https://ocnederland.nl
X-WR-CALDESC:Evenementen voor Ondernemersclub Nederland
REFRESH-INTERVAL;VALUE=DURATION:PT1H
X-Robots-Tag:noindex
X-PUBLISHED-TTL:PT1H
BEGIN:VTIMEZONE
TZID:Europe/Paris
BEGIN:DAYLIGHT
TZOFFSETFROM:+0100
TZOFFSETTO:+0200
TZNAME:CEST
DTSTART:20250330T010000
END:DAYLIGHT
BEGIN:STANDARD
TZOFFSETFROM:+0200
TZOFFSETTO:+0100
TZNAME:CET
DTSTART:20251026T010000
END:STANDARD
BEGIN:DAYLIGHT
TZOFFSETFROM:+0100
TZOFFSETTO:+0200
TZNAME:CEST
DTSTART:20260329T010000
END:DAYLIGHT
BEGIN:STANDARD
TZOFFSETFROM:+0200
TZOFFSETTO:+0100
TZNAME:CET
DTSTART:20261025T010000
END:STANDARD
BEGIN:DAYLIGHT
TZOFFSETFROM:+0100
TZOFFSETTO:+0200
TZNAME:CEST
DTSTART:20270328T010000
END:DAYLIGHT
BEGIN:STANDARD
TZOFFSETFROM:+0200
TZOFFSETTO:+0100
TZNAME:CET
DTSTART:20271031T010000
END:STANDARD
END:VTIMEZONE
BEGIN:VEVENT
DTSTART;TZID=Europe/Paris:20260113T120000
DTEND;TZID=Europe/Paris:20260113T160000
DTSTAMP:20260422T142749
CREATED:20251118T153346Z
LAST-MODIFIED:20260116T193851Z
UID:10000006-1768305600-1768320000@ocnederland.nl
SUMMARY:13 januari 2026 🇺🇦
DESCRIPTION:Wij nodigen Oekraïenstalige ondernemers uit voor een zakelijke bijeenkomst van Ondernemersclub Nederland.\n13 januari 12:00-16:00\nUtrecht.\n\nOntwikkeling van het Oekraïense ondernemerschap in de bouwsector.\nPraktische ervaring.\nEchte kansen.\nDe Nederlandse markt.\n\nPresentatie van Maksym Melnik: Samen bouwen aan de toekomst. Oekraïens bouwondernemerschap in Nederland.\nVoor wie:\n\nOndernemers.\nBouwbedrijven.\nAannemers.\nInvesteerders.\nLeveranciers van diensten en materialen.\n\nProgramma:\n\nToetreding tot de Nederlandse markt.\nJuridische en financiële aspecten.\nHet vinden van partners en opdrachtgevers.\nPraktijkcases van Oekraïense ondernemers.\nNetwerken en nieuwe zakelijke contacten.\n\nTaal van het evenement: Oekraïens.\nRegistratie is verplicht.\nHet aantal plaatsen is beperkt.\nDoe mee.\nBouw samen met ons aan uw bedrijf in Nederland.
URL:https://ocnederland.nl/event/13-januari-2026/
LOCATION:Utrecht\, Netherlands
CATEGORIES:🇺🇦
ATTACH;FMTTYPE=image/jpeg:https://ocnederland.nl/wp-content/uploads/2025/11/IMG_20260116_190228_235.jpg
END:VEVENT
END:VCALENDAR