BEGIN:VCALENDAR
VERSION:2.0
PRODID:-//Ondernemersclub Nederland - ECPv6.15.11//NONSGML v1.0//EN
CALSCALE:GREGORIAN
METHOD:PUBLISH
X-ORIGINAL-URL:https://ocnederland.nl
X-WR-CALDESC:Evenementen voor Ondernemersclub Nederland
REFRESH-INTERVAL;VALUE=DURATION:PT1H
X-Robots-Tag:noindex
X-PUBLISHED-TTL:PT1H
BEGIN:VTIMEZONE
TZID:Europe/Paris
BEGIN:DAYLIGHT
TZOFFSETFROM:+0100
TZOFFSETTO:+0200
TZNAME:CEST
DTSTART:20250330T010000
END:DAYLIGHT
BEGIN:STANDARD
TZOFFSETFROM:+0200
TZOFFSETTO:+0100
TZNAME:CET
DTSTART:20251026T010000
END:STANDARD
BEGIN:DAYLIGHT
TZOFFSETFROM:+0100
TZOFFSETTO:+0200
TZNAME:CEST
DTSTART:20260329T010000
END:DAYLIGHT
BEGIN:STANDARD
TZOFFSETFROM:+0200
TZOFFSETTO:+0100
TZNAME:CET
DTSTART:20261025T010000
END:STANDARD
BEGIN:DAYLIGHT
TZOFFSETFROM:+0100
TZOFFSETTO:+0200
TZNAME:CEST
DTSTART:20270328T010000
END:DAYLIGHT
BEGIN:STANDARD
TZOFFSETFROM:+0200
TZOFFSETTO:+0100
TZNAME:CET
DTSTART:20271031T010000
END:STANDARD
END:VTIMEZONE
BEGIN:VTIMEZONE
TZID:Europe/Helsinki
BEGIN:DAYLIGHT
TZOFFSETFROM:+0200
TZOFFSETTO:+0300
TZNAME:EEST
DTSTART:20250330T010000
END:DAYLIGHT
BEGIN:STANDARD
TZOFFSETFROM:+0300
TZOFFSETTO:+0200
TZNAME:EET
DTSTART:20251026T010000
END:STANDARD
BEGIN:DAYLIGHT
TZOFFSETFROM:+0200
TZOFFSETTO:+0300
TZNAME:EEST
DTSTART:20260329T010000
END:DAYLIGHT
BEGIN:STANDARD
TZOFFSETFROM:+0300
TZOFFSETTO:+0200
TZNAME:EET
DTSTART:20261025T010000
END:STANDARD
BEGIN:DAYLIGHT
TZOFFSETFROM:+0200
TZOFFSETTO:+0300
TZNAME:EEST
DTSTART:20270328T010000
END:DAYLIGHT
BEGIN:STANDARD
TZOFFSETFROM:+0300
TZOFFSETTO:+0200
TZNAME:EET
DTSTART:20271031T010000
END:STANDARD
END:VTIMEZONE
BEGIN:VEVENT
DTSTART;TZID=Europe/Paris:20260202T090000
DTEND;TZID=Europe/Paris:20260202T130000
DTSTAMP:20260422T133509
CREATED:20260129T111327Z
LAST-MODIFIED:20260129T111556Z
UID:10000029-1770022800-1770037200@ocnederland.nl
SUMMARY:2 Februari 2026 🇺🇦
DESCRIPTION:Evenement in Friesland
URL:https://ocnederland.nl/event/2-februari-2026/
LOCATION:Friesland\, Friesland\, Netherlands
CATEGORIES:🇺🇦
ATTACH;FMTTYPE=image/png:https://ocnederland.nl/wp-content/uploads/2025/12/OndernemersclubNL.png
END:VEVENT
BEGIN:VEVENT
DTSTART;TZID=Europe/Paris:20260202T120000
DTEND;TZID=Europe/Paris:20260202T140000
DTSTAMP:20260422T133509
CREATED:20251119T164110Z
LAST-MODIFIED:20260130T220102Z
UID:10000008-1770033600-1770040800@ocnederland.nl
SUMMARY:02 februari 2026 🇷🇺
DESCRIPTION:Evenement in Utrecht. \nExclusief: alleen voor leden van Ondernemersclub Nederland  \n📅 Datum: 2 februari 2026🕛 Tijd: 12:00–14:00💻 Format: Online \n🎤 Spreker: Natalia Davidenko – businessconsultant \nOnderwerp: Hoe je veel content maakt zonder burn-out. Het opschalen van je online business. \nTijdens de bijeenkomst deelt Natalia:✅ Hoe je systematisch content creëert zonder op te branden.✅ Hoe je sales-\, HR- en operationele processen versterkt.✅ Tools en strategieën om de winst te verhogen. \nMis deze kans niet om persoonlijke aanbevelingen en inspiratie voor je bedrijf te ontvangen.
URL:https://ocnederland.nl/event/02-februari-2026/
LOCATION:Utrecht\, Netherlands
CATEGORIES:Alleen voor leden,🇷🇺
ATTACH;FMTTYPE=image/jpeg:https://ocnederland.nl/wp-content/uploads/2025/11/file_0000000056b87246a4aa541d23db4683.jpg
END:VEVENT
BEGIN:VEVENT
DTSTART;TZID=Europe/Paris:20260204T190000
DTEND;TZID=Europe/Paris:20260204T220000
DTSTAMP:20260422T133509
CREATED:20260129T112031Z
LAST-MODIFIED:20260129T112207Z
UID:10000030-1770231600-1770242400@ocnederland.nl
SUMMARY:4 Februari 2026 🇷🇺
DESCRIPTION:Evenement in Overijssel
URL:https://ocnederland.nl/event/4-februari-2026/
LOCATION:Overijssel\, Netherlands
CATEGORIES:🇷🇺
END:VEVENT
BEGIN:VEVENT
DTSTART;TZID=Europe/Paris:20260205T090000
DTEND;TZID=Europe/Paris:20260205T130000
DTSTAMP:20260422T133509
CREATED:20260129T112604Z
LAST-MODIFIED:20260130T102617Z
UID:10000031-1770282000-1770296400@ocnederland.nl
SUMMARY:5 Februari 2026 🇳🇱
DESCRIPTION:Evenement Flevoland
URL:https://ocnederland.nl/event/5-februari-2026/
LOCATION:Flevoland\, Flevoland\, Netherlands
CATEGORIES:🇳🇱
END:VEVENT
BEGIN:VEVENT
DTSTART;TZID=Europe/Paris:20260206T130000
DTEND;TZID=Europe/Paris:20260206T170000
DTSTAMP:20260422T133509
CREATED:20260129T115158Z
LAST-MODIFIED:20260130T113657Z
UID:10000032-1770382800-1770397200@ocnederland.nl
SUMMARY:6 februari 2026 🇳🇱
DESCRIPTION:Evenement in Limburg
URL:https://ocnederland.nl/event/6-februari-2026/
LOCATION:Limburg\, Limburg\, Netherlands
CATEGORIES:🇳🇱
ATTACH;FMTTYPE=image/png:https://ocnederland.nl/wp-content/uploads/2025/12/OndernemersclubNL.png
END:VEVENT
BEGIN:VEVENT
DTSTART;TZID=Europe/Paris:20260211T180000
DTEND;TZID=Europe/Paris:20260211T220000
DTSTAMP:20260422T133509
CREATED:20260329T183816Z
LAST-MODIFIED:20260329T192520Z
UID:10000094-1770832800-1770847200@ocnederland.nl
SUMMARY:11 Februari 2026 🇺🇦
DESCRIPTION:HET PLATINUM DINER BIJ DE VLINDERTUIN. \nExclusief voor Platinum-leden van Ondernemersclub Nederland.\nOp 11 Februari nodigen wij onze Platinum leden uit om te genieten van het toppunt van de Nederlandse gastronomie. \nWe komen samen bij het iconische Restaurant De Vlindertuin in Zuidlaren\, een locatie waar historische charme en modern culinair meesterschap samenkomen.\nDit is meer dan een diner. Het is een zorgvuldig samengestelde avond voor de architecten van de toekomst om te verbinden\, te inspireren en te genieten in een setting die elegantie definieert. \nOm een naadloze ervaring te garanderen voor ons internationale netwerk van leiders\, zal de voertaal tijdens dit evenement Oekraïens zijn. \nEVENT DETAILS.\nLocatie. De Vlindertuin⁠. Stationsweg 20\, Zuidlaren.\nDatum. Woensdag 11 februari 2026.\nTijd. 18:00 – 22:00 uur. \nDE PLATINUM ERVARING.\nOmring uzelf met de meest invloedrijke ondernemers en leiders uit verschillende landen in een intieme\, besloten setting. \n▪︎ Gastronomie van Michelin-niveau.\nGeniet van een menu van wereldklasse\, bereid door het bekroonde culinaire team.\nHet menu bevat seizoensgebonden producten en verfijnde wijnarrangementen. \n▪︎ De ambiance van De Vlindertuin.\nGeniet van de warmte van de historische Saksische boerderij – de perfecte achtergrond om grootse visies voor 2026 te bespreken. \nSTRIKT BEPERKT.\nOm een intieme sfeer van het hoogste niveau te waarborgen\, is het aantal plaatsen zeer beperkt. Deze bijeenkomst is besloten en uitsluitend toegankelijk voor geregistreerde Platinum-leden. \nAANMELDEN.\nBevestig uw deelname uitsluitend via het platform van Ondernemersclub Nederland. \nWe kijken uit naar een avond vol uitzonderlijke smaken en connecties van wereldklasse.
URL:https://ocnederland.nl/event/11-februari-2026/
LOCATION:Restaurant de Vlindertuin\, Stationsweg 41\, Zuidlaren\, Drenthe\, 9471 GK\, Netherlands
CATEGORIES:Alleen voor leden,🇺🇦
ATTACH;FMTTYPE=image/jpeg:https://ocnederland.nl/wp-content/uploads/2026/03/11-februari-2026-platinum.jpg
END:VEVENT
BEGIN:VEVENT
DTSTART;TZID=Europe/Paris:20260213T100000
DTEND;TZID=Europe/Paris:20260213T120000
DTSTAMP:20260422T133509
CREATED:20260209T150035Z
LAST-MODIFIED:20260213T064257Z
UID:10000033-1770976800-1770984000@ocnederland.nl
SUMMARY:13 februari 2026 🇳🇱
DESCRIPTION:Zuid-Holland online \nOp 13 februari 2026 geeft Peter Michels\, lid van Ondernemersclub Nederland\, een mastermind over een confronterend feit:\n96% van de ondernemers in Nederland groeit niet door.\nNiet door gebrek aan inzet.\nNiet door gebrek aan strategie.\nMaar omdat zij vastlopen in dezelfde patronen.\n\nPeter Michels vergelijkt ondernemen met Super Mario.\nElk level ziet er anders uit\, maar de regels blijven hetzelfde.\nOm het volgende level te bereiken\, zijn nieuwe vaardigheden nodig\, nieuw gedrag – en een nieuwe versie van jezelf.\nVeel ondernemers blijven doen wat ze altijd deden\,\nterwijl het spel al lang iets anders van hen vraagt.\n\nDeze mastermind gaat over:\n• Regie nemen over het eigen bedrijf\n• Zien waar ondernemers zichzelf (onbewust) tegenhouden.\n• Begrijpen waarom zij zélf de bottleneck van hun groei zijn\n• Ontdekken wat nodig is om wél door te groeien — op eigen voorwaarden.\nJa\, er worden tips & tricks gedeeld die bedrijven helpen groeien.\nMaar de echte groei zit niet in de business.\nDie zit in de ondernemer zelf.\nDe vraag is niet:\nWelke strategie ontbreekt nog?\nDe echte vraag is:\nDurft de ondernemer zichzelf aan te kijken?\n\nVoor ondernemers die willen leren hoe zij de uitzondering op de regel worden\,\ndie klaar zijn om oude overtuigingen los te laten en écht door te groeien\,is deze mastermind een must.\nMis deze Zoom Mastermind niet.
URL:https://ocnederland.nl/event/13-februari-2026/
LOCATION:Groningen
CATEGORIES:🇳🇱
ATTACH;FMTTYPE=image/jpeg:https://ocnederland.nl/wp-content/uploads/2026/02/13-februari-2026-online.jpg
END:VEVENT
BEGIN:VEVENT
DTSTART;TZID=Europe/Paris:20260216T180000
DTEND;TZID=Europe/Paris:20260216T220000
DTSTAMP:20260422T133509
CREATED:20260214T180618Z
LAST-MODIFIED:20260329T193122Z
UID:10000037-1771264800-1771279200@ocnederland.nl
SUMMARY:16 Februari 2026 🇷🇺
DESCRIPTION:HET PLATINUM DINER BIJ DE VLINDERTUIN. \nExclusief voor Platinum-leden van Ondernemersclub Nederland.\nOp 16 februari nodigen wij onze Platinum leden uit om te genieten van het toppunt van de Nederlandse gastronomie. \nWe komen samen bij het iconische Restaurant De Vlindertuin in Zuidlaren\, een locatie waar historische charme en modern culinair meesterschap samenkomen.\nDit is meer dan een diner. Het is een zorgvuldig samengestelde avond voor de architecten van de toekomst om te verbinden\, te inspireren en te genieten in een setting die elegantie definieert. \nOm een naadloze ervaring te garanderen voor ons internationale netwerk van leiders\, zal de voertaal tijdens dit evenement Russisch zijn. \nEVENT DETAILS.\nLocatie: De Vlindertuin⁠. Stationsweg 20\, Zuidlaren.\nDatum: Maandag 16 Februari 2026.\nTijd: 18:00 – 22:00 uur. \nDE PLATINUM ERVARING.\nOmring uzelf met de meest invloedrijke ondernemers en leiders uit verschillende landen in een intieme\, besloten setting. \n▪︎ Gastronomie van Michelin-niveau.\nGeniet van een menu van wereldklasse\, bereid door het bekroonde culinaire team.\nHet menu bevat seizoensgebonden producten en verfijnde wijnarrangementen. \n▪︎ De ambiance van De Vlindertuin.\nGeniet van de warmte van de historische Saksische boerderij – de perfecte achtergrond om grootse visies voor 2026 te bespreken. \nSTRIKT BEPERKT.\nOm een intieme sfeer van het hoogste niveau te waarborgen\, is het aantal plaatsen zeer beperkt. Deze bijeenkomst is besloten en uitsluitend toegankelijk voor geregistreerde Platinum-leden. \nAANMELDEN.\nBevestig uw deelname uitsluitend via het platform van Ondernemersclub Nederland. \nWe kijken uit naar een avond vol uitzonderlijke smaken en connecties van wereldklasse.
URL:https://ocnederland.nl/event/16-februari-2026/
LOCATION:Restaurant de Vlindertuin\, Stationsweg 41\, Zuidlaren\, Drenthe\, 9471 GK\, Netherlands
CATEGORIES:Alleen voor leden,🇷🇺
ATTACH;FMTTYPE=image/jpeg:https://ocnederland.nl/wp-content/uploads/2026/02/16-februari-2026-platinum.jpg
END:VEVENT
BEGIN:VEVENT
DTSTART;TZID=Europe/Paris:20260218T090000
DTEND;TZID=Europe/Paris:20260218T130000
DTSTAMP:20260422T133509
CREATED:20260215T120725Z
LAST-MODIFIED:20260219T141436Z
UID:10000038-1771405200-1771419600@ocnederland.nl
SUMMARY:18 Februari 2026 🇳🇱
DESCRIPTION:Evenement in Groningen. \nBusiness Ontbijt voor Ondernemersclub Nederland (OCN) leden.\nBeste leden van Ondernemersclub Nederland (OCN)\,\nGraag nodigen wij jullie uit voor een exclusief businessontbijt in Groningen.\nDeze bijeenkomst is uitsluitend bestemd voor leden van OCN en biedt een uitstekende gelegenheid om in een vertrouwde setting te netwerken\, kennis te delen en zakelijke kansen te bespreken.\n Datum: 18-02-2026\n Tijd: 09:00 – 13:00\n Taal: Nederlands.\nTijdens deze ochtend:\n\nKennismaken met nieuwe en bestaande OCN-leden.\nDelen van actuele ondernemerservaringen.\nBespreken van samenwerkingsmogelijkheden.\nInformeel netwerken onder het genot van een verzorgd ontbijt ( de traktatie van OCN).\n\nLocatie :\nAnne&Max\nTurfsingel 18-20\n9712 KR Groningen.\n Let op: Deze bijeenkomst is exclusief voor leden van OCN. Aanmelding vooraf is vereist in verband met reservering.\nWij kijken ernaar uit om jullie te verwelkomen voor een inspirerende en verbindende ochtend.\nMet vriendelijke groet\,\nHet bestuur van Ondernemersclub Nederland (OCN)
URL:https://ocnederland.nl/event/18-februari-2026/
LOCATION:Groningen\, Groningen\, Netherlands
CATEGORIES:🇳🇱
END:VEVENT
BEGIN:VEVENT
DTSTART;TZID=Europe/Paris:20260219T120000
DTEND;TZID=Europe/Paris:20260219T170000
DTSTAMP:20260422T133509
CREATED:20260215T122015Z
LAST-MODIFIED:20260219T143600Z
UID:10000039-1771502400-1771520400@ocnederland.nl
SUMMARY:19 Februari 2026 🇺🇦
DESCRIPTION:Netwerklunch voor Oekraïenssprekende Ondernemers in Zuid-Holland \nOndernemersclub Nederland nodigt Oekraïenssprekende ondernemers uit voor een gezamenlijke en informele netwerklunch in Den Haag. \nEen mooie gelegenheid om elkaar beter te leren kennen\, ervaringen uit te wisselen en nieuwe samenwerkingen te verkennen. \nDatum en tijd: 12:00 – 17:00 uur.Locatie: Den Haag\, Zuid-Holland.De exacte locatie wordt gedeeld na aanmelding. \nDoel van de bijeenkomst:We brengen Oekraïenssprekende ondernemers binnen OCN samen om kennis te delen\, elkaar te inspireren en het netwerk te versterken binnen het Nederlandse ondernemersklimaat. \nProgramma:  \n12:00 – 13:00.Inloop en kennismaking. \n13:00 – 14:00.Gezamenlijke lunch. Aangeboden door OCN. \n14:00 – 15:30.Ronde tafel gesprekken over ondernemen in Nederland\, zichtbaarheid en samenwerkingsmogelijkheden. \n15:30 – 16:30.Pitchmoment. Vrijwillig. 3 minuten per ondernemer. \n16:30 – 17:00.Afsluiting en vrij netwerken. \nLunch.De lunch wordt volledig verzorgd door OCN. Deelname is kosteloos voor leden. \nDeelname.Dit evenement is uitsluitend toegankelijk voor leden van Ondernemersclub Nederland.Aanmelden is verplicht.
URL:https://ocnederland.nl/event/19-februari-2026/
LOCATION:Zuid-Holland\, Zuid-Holland\, Netherlands
CATEGORIES:🇺🇦
END:VEVENT
BEGIN:VEVENT
DTSTART;TZID=Europe/Paris:20260220T120000
DTEND;TZID=Europe/Paris:20260220T170000
DTSTAMP:20260422T133509
CREATED:20260216T004956Z
LAST-MODIFIED:20260216T005019Z
UID:10000040-1771588800-1771606800@ocnederland.nl
SUMMARY:20 Februari 2026 🇷🇺
DESCRIPTION:Evenement in Noord-Holland
URL:https://ocnederland.nl/event/20-februari-2026/
LOCATION:Noord-Holland\, Netherlands
CATEGORIES:🇷🇺
END:VEVENT
BEGIN:VEVENT
DTSTART;TZID=Europe/Paris:20260221T120000
DTEND;TZID=Europe/Paris:20260221T160000
DTSTAMP:20260422T133509
CREATED:20260107T110016Z
LAST-MODIFIED:20260205T162547Z
UID:10000028-1771675200-1771689600@ocnederland.nl
SUMMARY:21 Februari 2026 🇬🇧
DESCRIPTION:Event in Noord-Holland
URL:https://ocnederland.nl/event/21-februari-2026-%f0%9f%87%ac%f0%9f%87%a7/
LOCATION:Noord-Holland\, Netherlands
CATEGORIES:🇬🇧
END:VEVENT
BEGIN:VEVENT
DTSTART;TZID=Europe/Helsinki:20260222T130000
DTEND;TZID=Europe/Helsinki:20260222T180000
DTSTAMP:20260422T133509
CREATED:20251112T151548Z
LAST-MODIFIED:20260212T160549Z
UID:10000003-1771765200-1771783200@ocnederland.nl
SUMMARY:22 februari 2026 🇷🇺
DESCRIPTION:Evenementinformatie:\nDatum: 22 februari 2026Tijd: 13:00 – 18:00Locatie: Sint Antoniesbreestraat 69\, 1011 HB Amsterdam. \nPresentatoren:\nJulia Krylova is facilitator van masterminds\, ondernemer en auteur van het boek “Mozaïek van het Leven”. Tijdens de bijeenkomst begeleidt zij de deelnemers en creëert zij een diepgaande en gestructureerde ruimte voor uitwisseling\, reflectie en praktische oplossingen. Haar aanpak is gebaseerd op het Win-Win format\, waarin elke deelnemer waarde en concrete inzichten ontvangt. \nTijdens de bijeenkomst is er de mogelijkheid om het boek “Mozaïek van het Leven” van Julia Krylova aan te schaffen\, inclusief een persoonlijke handtekening van de auteur. \nElia Dorlou is coach en trainer in cijferspsychologie en verbonden aan het SYUCAI Training Institute. Zij werkt met het denken van de moderne ondernemer en helpt deelnemers inzicht te krijgen in hun persoonlijke kenmerken\, sterke punten en ontwikkelrichtingen op basis van cijferspsychologische analyse . \nEvenementenprogramma: \n13:00  Ontvangst van de deelnemers.Registratie en kennismaking. Koffie en lichte snacks. \n13:30  Start van het evenementWelkomstwoord door facilitator Julia Krylova en introductie van Elia Dorlou.Korte inleidende sessie: doel en format van de bijeenkomst (Win-Win format). \n13:45  SYUCAI-analyse met Elia Dorlou.Individuele sessies in cijferspsychologie.Analyse van de aanwezige deelnemers vanuit het perspectief van het denken van de moderne ondernemer.Praktische aanbevelingen en zakelijke inzichten. \n14:30 – 14:45  Korte pauze en voorbereiding op de mastermind-sessie. \n14:45  Mastermind-sessie.Overzicht van het mastermind-programma en de spelregels voor samenwerking4 deelnemers met concrete zakelijke vraagstukken.Elke deelnemer brengt zijn of haar case in voor groepsanalyse.Groepsdiscussie\, uitwisseling van ervaringen en het vinden van creatieve en onconventionele oplossingen.Julia faciliteert het proces en bewaakt de structuur en diepgang van de analyse. \n15:30 – Pauze.Koffie\, netwerken en informele gesprekken. \n15:50 – Vervolg van de mastermind-sessie.Bespreking van de resterende cases.Actieve betrokkenheid van het publiek: vragen\, opmerkingen en inzichten.Focus op praktische toepasbaarheid en concrete acties voor het bedrijfsleven. \n16:30 – 17:00  Afsluitende sessie en einde van het evenement.Samenvatting van de resultaten van de mastermindBelangrijkste inzichten en conclusies van de deelnemersFeedback en aanbevelingen voor verdere ontwikkelingDankwoord aan de deelnemersSlotwoord van de facilitator \n17:00 –18:00 Netwerk.  \nKorte presentaties van de deelnemers. Uitwisseling van contactgegevens.Zoeken naar partners en potentiële klanten. \nExclusief voordeel:Voor leden van Ondernemersclub Nederland (OCN) is deelname gratis.
URL:https://ocnederland.nl/event/22-februari-2026/
LOCATION:Huis De Pinto\, Sint Antoniesbreestraat 69\, Amsterdam\, 1011 HB\, Netherlands
CATEGORIES:🇷🇺
ATTACH;FMTTYPE=image/jpeg:https://ocnederland.nl/wp-content/uploads/2025/11/22-februari-2026-ru-final.jpg
END:VEVENT
BEGIN:VEVENT
DTSTART;TZID=Europe/Paris:20260225T110000
DTEND;TZID=Europe/Paris:20260225T150000
DTSTAMP:20260422T133509
CREATED:20260216T005327Z
LAST-MODIFIED:20260216T005353Z
UID:10000041-1772017200-1772031600@ocnederland.nl
SUMMARY:25 Februari 2026  🇺🇦
DESCRIPTION:Evenement in Overijssel
URL:https://ocnederland.nl/event/25-februari-2026/
LOCATION:Overijssel\, Netherlands
CATEGORIES:🇺🇦
END:VEVENT
BEGIN:VEVENT
DTSTART;TZID=Europe/Paris:20260226T110000
DTEND;TZID=Europe/Paris:20260226T153000
DTSTAMP:20260422T133509
CREATED:20260214T040710Z
LAST-MODIFIED:20260214T123900Z
UID:10000035-1772103600-1772119800@ocnederland.nl
SUMMARY:26 Februari 2026 🇷🇺
DESCRIPTION:🌸 Beauty Dag met Ondernemersclub Nederland (OCN) bij BeaYOUty Studio\nWil je de geheimen van de juiste gezichtsverzorging ontdekken\, een echte glow zien en professionele behandelingen uitproberen? Wij nodigen je uit voor de Beauty Dag in de gezellige BeaYOUty Studio!. \nBedrijfsbezoek.\n📅 Datum: 26 februari\n🕚 Tijd: 11:00 – 15:30\n📍 Adres: La Palma 1\, Zaandam \nProgramma van de dag:\n11:30 – 12:00 Kennismaking.\n12:00 – 12:30 Presentatie: “De juiste gezichtsverzorging.”\n12:30 – 13:00 Workshop: gezichtsmassage voor thuis.\n13:00 – 15:30 De mogelijkheid om een van de professionele behandelingen van 20 minuten te boeken: \n\nSculpting gezichtsmassage.\nLichte gezichtsreiniging + peeling voor een stralende huid.\nLaserontharing (gezicht of oksels).\nAnti-cellulitis massage met het Endospheres apparaat.\nExpress behandeling met het Hydro-Facial apparaat (hydrateren en liften).\n\n⚠️ Beperkt aantal plaatsen beschikbaar! \nToegang: voor leden van Ondernemersclub Nederland (OCN) gratis.
URL:https://ocnederland.nl/event/26-februari-2026/
LOCATION:BeaYOUty studio\, La Palma 1\, Zaandam\, 1505 VR\, Netherlands
CATEGORIES:🇷🇺
ATTACH;FMTTYPE=image/jpeg:https://ocnederland.nl/wp-content/uploads/2026/02/26-Februari-2026-Final.jpg
END:VEVENT
BEGIN:VEVENT
DTSTART;TZID=Europe/Paris:20260226T120000
DTEND;TZID=Europe/Paris:20260226T150000
DTSTAMP:20260422T133509
CREATED:20260329T141456Z
LAST-MODIFIED:20260329T144153Z
UID:10000092-1772107200-1772118000@ocnederland.nl
SUMMARY:26 Februari 2026 🇳🇱
DESCRIPTION:🍽 BUSINESSLUNCH BIJ HET WEESHUYS\nExclusief voor leden van Ondernemersclub Nederland\nOp 26 februari komen we samen op een van de meest sfeervolle locaties van Noord-Brabant: \nRestaurant Het Weeshuys in Geertruidenberg.\nDit is dé plek waar gastronomie en zakelijk netwerken samenkomen. \nGeen snelle hap\, maar een middag vol inspiratie\, waardevolle connecties en culinaire hoogstandjes in een historisch pand. \nLocatie: Het Weeshuys⁠\, Markt 52-56\, Geertruidenberg.\nDatum: donderdag 26 februari. \nTijd: 12:00 – 15:00 uur. \nWAT KUN JE VERWACHTEN?\nNetwerken op hoog niveau: leg waardevolle contacten met mede-ondernemers uit heel Nederland.\nCulinaire beleving: geniet van een hoogwaardige lunch\, bereid met verse seizoensproducten.\nInspirerende ambiance: een informele\, maar professionele setting om plannen voor 2026 te bespreken. \nDeze bijeenkomst is besloten en uitsluitend toegankelijk voor leden van de club. \nWe kijken ernaar uit om samen met jou aan tafel te gaan!
URL:https://ocnederland.nl/event/26-februari-2026-2/
LOCATION:Restaurant ’t Weeshuys\, Markt 52-56\, Geertruidenberg\, Noord-Brabant\, 4931 BT
CATEGORIES:Alleen voor leden,🇳🇱
ATTACH;FMTTYPE=image/jpeg:https://ocnederland.nl/wp-content/uploads/2026/03/26-februari-2026.jpg
END:VEVENT
BEGIN:VEVENT
DTSTART;TZID=Europe/Paris:20260227T100000
DTEND;TZID=Europe/Paris:20260227T123000
DTSTAMP:20260422T133509
CREATED:20260212T134453Z
LAST-MODIFIED:20260224T093844Z
UID:10000034-1772186400-1772195400@ocnederland.nl
SUMMARY:27 Februari 2026 🇷🇺
DESCRIPTION:LinkedIn voor Business en Persoonlijk Merk27 februari.Online van 10.00 tot 12.30 uur. \nLinkedIn is niet zomaar een sociaal netwerk. Het is een platform voor visionairs en leiders die zich willen profileren en hun bedrijf willen opschalen. Tegenwoordig is een LinkedIn-profiel uw moderne zakelijke visitekaartje en een kanaal naar nieuwe kansen. \nTijdens de online masterclass ontvangt u praktische en bewezen tools om uw merk krachtig en zelfverzekerd neer te zetten: \n✨ Hoe u uw uniciteit weerspiegelt met behulp van profieltools. \n✨ Hoe u strategisch een netwerk opbouwt. \n✨ Hoe u content creëert en promoot die de aandacht trekt. \n✨ Hoe u uw ideale klanten bereikt. \n✨ Hoe u processen automatiseert en tijd bespaart. \nLinkedIn is uw podium. De enige vraag is: bent u klaar om naar voren te stappen en uzelf zo te presenteren dat men u onmogelijk kan negeren? \nBio van de spreker:Irina Musuc – loopbaan- en businesscoach\, corporate trainer. 17 jaar ervaring in public relations en communicatie. \nMeer dan 4000 uur coachingervaring. Presentator en expert in public speaking. Irina is auteur en trainer van programma’s op het gebied van presentatievaardigheden\, loopbaangroei\, leiderschap en persoonlijke ontwikkeling. Zij begeleidt transformatieprocessen en helpt mensen hun potentieel\, authenticiteit en ware waarde te ontdekken. \n\n\n\n\nExclusief voordeel:Voor leden van Ondernemersclub Nederland (OCN)  is deelname gratis.
URL:https://ocnederland.nl/event/27-februari-2026/
LOCATION:Online\, Netherlands
CATEGORIES:🇷🇺
ATTACH;FMTTYPE=image/jpeg:https://ocnederland.nl/wp-content/uploads/2026/02/27-februari-2026-final.jpg
END:VEVENT
END:VCALENDAR